BEGIN:VCALENDAR
VERSION:2.0
PRODID:-//Tukios.com/
BEGIN:VEVENT
UID:d54b8861-d09c-40dc-8b02-0459ed4c6e43@www.mackfamilyfh.com
DTSTAMP:20260420T181429Z
DTSTART:20260424T140000Z
DTEND:20260424T150000Z
SUMMARY:Funeral Service
DESCRIPTION:
URL:https://www.mackfamilyfh.com/obituaries/michael-miskowski
LOCATION:Mack Family Funeral Home, Athol-Orange Chapel 110 New Athol Road 
	 Orange MA 01364
GEO:42.5840572;-72.267243
END:VEVENT
END:VCALENDAR