BEGIN:VCALENDAR
VERSION:2.0
PRODID:-//Tukios.com/
BEGIN:VEVENT
UID:b3e7453c-6fd6-485e-adc9-156ad6745c7e@www.mackfamilyfh.com
DTSTAMP:20260420T181142Z
DTSTART:20260423T220000Z
DTEND:20260424T000000Z
SUMMARY:Visitation
DESCRIPTION:
URL:https://www.mackfamilyfh.com/obituaries/michael-miskowski
LOCATION:Mack Family Funeral Home, Athol-Orange Chapel 110 New Athol Road 
	 Orange MA 01364
GEO:42.5840572;-72.267243
END:VEVENT
END:VCALENDAR